BEGIN:VCALENDAR
VERSION:2.0
PRODID:-//MPEX Learning Studio - ECPv6.15.18//NONSGML v1.0//EN
CALSCALE:GREGORIAN
METHOD:PUBLISH
X-WR-CALNAME:MPEX Learning Studio
X-ORIGINAL-URL:https://mpexlearningstudio.com
X-WR-CALDESC:Events for MPEX Learning Studio
REFRESH-INTERVAL;VALUE=DURATION:PT1H
X-Robots-Tag:noindex
X-PUBLISHED-TTL:PT1H
BEGIN:VTIMEZONE
TZID:America/New_York
BEGIN:DAYLIGHT
TZOFFSETFROM:-0500
TZOFFSETTO:-0400
TZNAME:EDT
DTSTART:20250309T070000
END:DAYLIGHT
BEGIN:STANDARD
TZOFFSETFROM:-0400
TZOFFSETTO:-0500
TZNAME:EST
DTSTART:20251102T060000
END:STANDARD
BEGIN:DAYLIGHT
TZOFFSETFROM:-0500
TZOFFSETTO:-0400
TZNAME:EDT
DTSTART:20260308T070000
END:DAYLIGHT
BEGIN:STANDARD
TZOFFSETFROM:-0400
TZOFFSETTO:-0500
TZNAME:EST
DTSTART:20261101T060000
END:STANDARD
BEGIN:DAYLIGHT
TZOFFSETFROM:-0500
TZOFFSETTO:-0400
TZNAME:EDT
DTSTART:20270314T070000
END:DAYLIGHT
BEGIN:STANDARD
TZOFFSETFROM:-0400
TZOFFSETTO:-0500
TZNAME:EST
DTSTART:20271107T060000
END:STANDARD
END:VTIMEZONE
BEGIN:VEVENT
DTSTART;TZID=America/New_York:20260421T160000
DTEND;TZID=America/New_York:20260421T173000
DTSTAMP:20260421T083919
CREATED:20260224T151859Z
LAST-MODIFIED:20260224T162028Z
UID:10000940-1776787200-1776792600@mpexlearningstudio.com
SUMMARY:Photo 103: Editing and Post-Processing
DESCRIPTION:The last class in our 3-part Introduction to Photography series! Join us for more hands-on practice with photo editing and post-processing!\n\n\nPhoto 103: Editing\, Post-Processing & Putting It All Together\nInstructor: Dr. Sara Leikin \nPhoto 103 is the final class in our three-part Introduction to Photography series\, and it’s where everything comes together. This session is designed to help you apply what you’ve learned in Photography 101 and 102 and take your images across the finish line\, from capture to final edit. \nThis class focuses on hands-on practice\, guided exercises\, and real-world workflows. You’ll refine how you see and evaluate your own images while learning approachable\, effective techniques for editing and post-processing. The goal isn’t to overcomplicate things; it’s to help you confidently enhance your photos while staying true to your creative vision. \nIn this class\, we’ll cover: \n\nApplying core principles of light\, color\, composition\, and camera settings\nReviewing and selecting images with intention\nBasic photo editing and post-processing concepts\nSimple techniques to improve exposure\, contrast\, and color\nUsing editing tools to enhance\, not overpower\, your images\nDeveloping a consistent\, repeatable workflow from shoot to final image\n\nWhether you’re photographing portraits\, landscapes\, or everyday moments\, this class will help you gain confidence in what happens after you press the shutter and how editing fits into the creative process. \nAbout the Instructor Dr. Sara Leikin is a photographer\, educator\, and lifelong storyteller who fell in love with photography as a way to slow down and really see the world. She’s especially drawn to travel photography\, night-scapes\, and the small details that tell a bigger story. With a background in education\, Sara loves helping photographers at all levels build confidence\, understand the why behind their camera settings\, and discover their own visual voice. \nYou can explore her work at saraleikinphotography.com \nWhat to bring: \n\nYour camera (DSLR or mirrorless)\nCharged batteries and memory cards\nA laptop (optional\, but recommended) if you’d like to follow along during the editing portion\n\nThis class is the natural conclusion to the series. Practical\, encouraging\, and designed to help you leave with skills you’ll actually use.
URL:https://mpexlearningstudio.com/event/photo-103-editing-and-post-processing-7/
LOCATION:Midwest Photo Learning Studio\, 2887 Silver Drive\, Columbus\, OH\, 43211\, United States
ATTACH;FMTTYPE=image/jpeg:https://mpexlearningstudio.com/wp-content/uploads/2025/08/Photo-103-01-scaled.jpg
END:VEVENT
END:VCALENDAR